BEGIN:VCALENDAR
VERSION:2.0
PRODID:SFPL Web Calendar
BEGIN:VEVENT
UID:127119@sfpl.org
DTSTAMP:20250917T190000Z
DTSTART:20250917T190000Z
DTEND:20250917T200000Z
SUMMARY:Tutorial: Read Newspapers in Spanish on PressReader
DESCRIPTION:<p>Read Spanish-language news from all over the world on PressReader, a library app.&nbsp;</p><p>Whether you are seeking news from home or practicing a new language, reading Spanish-language news from Latin America and beyond is possible with your SFPL library card. &nbsp;</p><p>In this online tutorial we highlight a selection of our favorite Spanish-language newspapers and magazines and teach you how to access these and others on PressReader, a library app available on your computer, tablet or phone.&nbsp;</p><p>Presented primarily in English by a Magazines and Newspapers Librarian, this Zoom tutorial will include Spanish-language captions and an SFPL translator will be on hand to answer questions in Spanish.&nbsp;</p><p>The tutorial will be recorded. Register to receive the recording even if you can't make the live session.&nbsp;</p><p>Connect&nbsp;</p><p><a href="https://sfpl.libanswers.com/faq/167356">PressReader – SFPL FAQ (English)</a></p><p><a href="https://sfpl.libanswers.com/sp/faq/429383">PressReader - SFPL FAQ (Spanish)</a></p><p><a href="https://sfpl.org/locations/main-library/magazines-newspapers-center">Magazines and Newspapers Center – SFPL Webpage</a>&nbsp;</p>
LOCATION:Virtual Library
CLASS:PUBLIC
TRANSP:TRANSPARENT
END:VEVENT
BEGIN:VALARM
TRIGGER:-PT1440M
ACTION:DISPLAY
DESCRIPTION:Event Reminder - Tutorial: Read Newspapers in Spanish on PressReader
END:VALARM
END:VCALENDAR