BEGIN:VCALENDAR
VERSION:2.0
PRODID:SFPL Web Calendar
BEGIN:VEVENT
UID:127272@sfpl.org
DTSTAMP:20251022T230000Z
DTSTART:20251022T230000Z
DTEND:20251023T020000Z
SUMMARY:Book Club: Western Addition Book and Movie Club
DESCRIPTION:<p>Read <a href="https://sfpl.bibliocommons.com/v2/record/S93C3248520"><i>Hidden Figures</i></a><i> </i>by Margot Lee<i> </i>Shetterly at your own pace, then join us for a screening of the film adaptation of <a href="https://sfpl.bibliocommons.com/v2/record/S93C3384062"><i>Hidden Figures</i></a>. After the movie, stay for a lively discussion where we’ll compare the book and the film, share insights, and explore the powerful story behind both.</p><p>PG, 127 mins., 2017. Closed captions (CC) in English.</p>
LOCATION:Western Addition - Western Addition Meeting Room
CLASS:PUBLIC
TRANSP:TRANSPARENT
END:VEVENT
BEGIN:VALARM
TRIGGER:-PT1440M
ACTION:DISPLAY
DESCRIPTION:Event Reminder - Book Club: Western Addition Book and Movie Club
END:VALARM
END:VCALENDAR