BEGIN:VCALENDAR
VERSION:2.0
PRODID:SFPL Web Calendar
BEGIN:VEVENT
UID:127281@sfpl.org
DTSTAMP:20251019T220000Z
DTSTART:20251019T220000Z
DTEND:20251020T000000Z
SUMMARY:Film: The Unbroken Sky, with Author and Panel Discussion
DESCRIPTION:<p>An immigrant tale that should be seen by everyone.</p><p>Based on Dr. Francisco Jiménez's beloved memoirs, <a href="https://sfpl.bibliocommons.com/v2/record/S93C1778004"><i>The Circuit</i></a> and <a href="https://sfpl.bibliocommons.com/v2/record/S93C1747786"><i>Breaking Through</i></a>, the award-winning film <i>The Unbroken Sky </i>dramatizes the true story of a Mexican family’s journey — one of faith, hope, backbreaking work and an unrelenting determination to realize the universal dream of a better life.</p><p>Concluding the film, Dr. Jiménez will join producers Normandie Ramírez and Robin Mortarotti for a brief presentation and discussion, moderated by SFPL Latinx Program Manager, Francisco Cardona.&nbsp; Question and answer session will follow the conversation.</p>
LOCATION:Main Library - Koret Auditorium
CLASS:PUBLIC
TRANSP:TRANSPARENT
END:VEVENT
BEGIN:VALARM
TRIGGER:-PT1440M
ACTION:DISPLAY
DESCRIPTION:Event Reminder - Film: The Unbroken Sky, with Author and Panel Discussion
END:VALARM
END:VCALENDAR