BEGIN:VCALENDAR
VERSION:2.0
PRODID:SFPL Web Calendar
BEGIN:VEVENT
UID:127356@sfpl.org
DTSTAMP:20250808T233000Z
DTSTART:20250808T233000Z
DTEND:20250809T003000Z
SUMMARY:Author: Theo Gonzalves in conversation with Emil Guillermo
DESCRIPTION:<p>Scholar and curator Theodore S. Gonzalves will discuss his latest award-winning book, <a href="https://sfpl.bibliocommons.com/v2/record/S93C5983992"><i>Smithsonian&nbsp;Asian Pacific American History, Art, and Culture in 101 Objects</i></a><i>, </i>with journalist and performer Emil Guillermo, paying special attention to Philippine and Filipino American artifacts.&nbsp;</p><p>An audience Q&A will follow the discussion.</p><p><strong>Dr. Theodore S. Gonzalves</strong> is a scholar of comparative cultural studies and a curator at the Smithsonian’s National Museum of American History. A Fulbright scholar and former interim director of the Smithsonian Asian Pacific American Center, Theo has taught in the U.S., Spain, and the Philippines since 1991. His latest book, <a href="https://sfpl.bibliocommons.com/v2/record/S93C5983992"><i>Smithsonian&nbsp;Asian Pacific American History, Art, and Culture in 101 Objects</i></a>, won the Smithsonian Secretary’s Research Prize. An accomplished musician and former president of the Association for Asian American Studies, Theo currently serves on the board of the American Council of Learned Societies. He lives in Washington, D.C.</p><p><strong>Emil Guillermo</strong> is an award-winning journalist and commentator, notable for being the first Filipino American to host a national news show, NPR's "All Things Considered." For nearly 30 years, he has written a weekly column on race, culture, and politics from a Filipino Asian American perspective, featured in ethnic media and on the Asian American Legal Defense and Education Fund website. His collection, <a href="https://sfpl.bibliocommons.com/item/show/1693426093"><i>Amok: Essays from an Asian American Perspective</i></a>, won an American Book Award. Emil hosts “Emil Amok’s Takeout” on YouTube and “The PETA Podcast.” He also performs his “Amok Monologues” at theater festivals across North America.</p>
LOCATION:Main Library - James C. Hormel LGBTQIA Center - 3rd Fl
CLASS:PUBLIC
TRANSP:TRANSPARENT
END:VEVENT
BEGIN:VALARM
TRIGGER:-PT1440M
ACTION:DISPLAY
DESCRIPTION:Event Reminder - Author: Theo Gonzalves in conversation with Emil Guillermo
END:VALARM
END:VCALENDAR