BEGIN:VCALENDAR
VERSION:2.0
PRODID:SFPL Web Calendar
BEGIN:VEVENT
UID:127476@sfpl.org
DTSTAMP:20260103T000000Z
DTSTART:20260103T000000Z
DTEND:20260103T010000Z
SUMMARY:Social: Therapy Pet at the Library
DESCRIPTION:<p>Meet Jeffrey, a therapy dog from the SF SPCA. Hang out with Jeffrey to celebrate the New Year! For ages 6–12.</p>
LOCATION:Glen Park - Glen Park Meeting Room
CLASS:PUBLIC
TRANSP:TRANSPARENT
END:VEVENT
BEGIN:VALARM
TRIGGER:-PT1440M
ACTION:DISPLAY
DESCRIPTION:Event Reminder - Social: Therapy Pet at the Library
END:VALARM
END:VCALENDAR