BEGIN:VCALENDAR
VERSION:2.0
PRODID:SFPL Web Calendar
BEGIN:VEVENT
UID:127486@sfpl.org
DTSTAMP:20260515T231500Z
DTSTART:20260515T231500Z
DTEND:20260516T000000Z
SUMMARY:Book Club: Junior Readers
DESCRIPTION:<p>Make a paper mountain craft inspired by <a href="https://sfpl.bibliocommons.com/v2/record/S93C6442551">Up, Up, Ever Up!</a> (2025 Caldecott Honor winner) about Anita Yasuda, the first woman to climb to the top of Mount Everest. Meet other first and second graders learning to read while discovering new books you might like. A selection of free books for children learning to read and resources for parents will also be available to take home.&nbsp;</p><p>For ages 6–8.</p>
LOCATION:Glen Park - Glen Park Meeting Room
CLASS:PUBLIC
TRANSP:TRANSPARENT
END:VEVENT
BEGIN:VALARM
TRIGGER:-PT1440M
ACTION:DISPLAY
DESCRIPTION:Event Reminder - Book Club: Junior Readers
END:VALARM
END:VCALENDAR