BEGIN:VCALENDAR
VERSION:2.0
PRODID:SFPL Web Calendar
BEGIN:VEVENT
UID:127886@sfpl.org
DTSTAMP:20251008T010000Z
DTSTART:20251008T010000Z
DTEND:20251008T023000Z
SUMMARY:Presentation: Mushrooms for Beginners
DESCRIPTION:<p>Explore mushroom foraging, lore, health benefits and more with citizen scientist and passionate mushroom enthusiast Lisa Stewart. We delve into cultural significance and folklore, as well as nutritional and health benefits such as "shinrin-yoku" or forest bathing. We cover the risks of toxicity, mushroom toxins, phobias around poisonings, and why correct identification is essential. Finally, we offer practical tips on finding and identifying wild mushrooms, highlighting the importance of local mushrooming clubs and good identification books written by reliable, expert sources.</p><p>Lisa Stewart&nbsp;is by day a Computer Programmer and Engineering Manager at a technology company and at the weekends a citizen scientist and passionate mushroom enthusiast with a deep-rooted love for mycology and the natural world. &nbsp;Lisa served 16 years (2008 to 2024) in different capacities on the Board of Directors for the&nbsp;<a href="https://www.sonomamycology.org/">Sonoma County Mycological Association (SOMA)</a>, where she helped guide educational outreach, foraging events, and community engagement around fungi. Her years of service reflect a commitment to environmental stewardship, scientific curiosity, and fostering a vibrant community of mushroom lovers in Northern California.</p><p>Connect: &nbsp;<a href="https://www.sonomamycology.org/">Sonoma County Mycological Association</a></p>
LOCATION:Virtual Library
CLASS:PUBLIC
TRANSP:TRANSPARENT
END:VEVENT
BEGIN:VALARM
TRIGGER:-PT1440M
ACTION:DISPLAY
DESCRIPTION:Event Reminder - Presentation: Mushrooms for Beginners
END:VALARM
END:VCALENDAR