BEGIN:VCALENDAR
VERSION:2.0
PRODID:SFPL Web Calendar
BEGIN:VEVENT
UID:128272@sfpl.org
DTSTAMP:20260521T010000Z
DTSTART:20260521T010000Z
DTEND:20260521T020000Z
SUMMARY:Book Club: Marina Bookworms
DESCRIPTION:<p>Join other bookworms to discuss a different book each month. A light snack is included. &nbsp;</p><p>We will be discussing <a href="https://sfpl.bibliocommons.com/v2/record/S93C3640117"><i>The Unteachables </i>by Gordon Korman</a></p><p>For ages 9-12.&nbsp;</p>
LOCATION:Marina - Marina Children's Area
CLASS:PUBLIC
TRANSP:TRANSPARENT
END:VEVENT
BEGIN:VALARM
TRIGGER:-PT1440M
ACTION:DISPLAY
DESCRIPTION:Event Reminder - Book Club: Marina Bookworms
END:VALARM
END:VCALENDAR