BEGIN:VCALENDAR
VERSION:2.0
PRODID:SFPL Web Calendar
BEGIN:VEVENT
UID:128578@sfpl.org
DTSTAMP:20260422T223000Z
DTSTART:20260422T223000Z
DTEND:20260423T003000Z
SUMMARY:Workshop: Financial Aid & Scholarships for Teens
DESCRIPTION:<p>Navigate the college financial aid process and the different types of aid available, including grants, loans, work-study and scholarships. For 9th–12th graders who live or attend school in San Francisco. Space limited. <a href="https://studysmart.us/classes/april-in-person-financial-aid-scholarships-workshops-north-beach-branch-2-hour/">Reservations required: sign up on website</a>.</p><p>Study Smart Tutors is committed to and passionate about providing equitable college and career programming to close opportunity gaps.</p><p>Connect: <a href="https://studysmart.us/">Study Smart Tutors - Website</a></p>
LOCATION:North Beach - North Beach Library Community Room
CLASS:PUBLIC
TRANSP:TRANSPARENT
END:VEVENT
BEGIN:VALARM
TRIGGER:-PT1440M
ACTION:DISPLAY
DESCRIPTION:Event Reminder - Workshop: Financial Aid & Scholarships for Teens
END:VALARM
END:VCALENDAR