BEGIN:VCALENDAR
VERSION:2.0
PRODID:SFPL Web Calendar
BEGIN:VEVENT
UID:128581@sfpl.org
DTSTAMP:20260513T220000Z
DTSTART:20260513T220000Z
DTEND:20260513T230000Z
SUMMARY:Workshop: Fencing Basics
DESCRIPTION:<p>Experience the sport of fencing with Brandon and Stacey from North Beach's SF Fencing Academy. Learn basic footwork and bladework, rules and strategy, and answer your questions about this Olympic sport.&nbsp;</p>
LOCATION:North Beach - North Beach Library Community Room
CLASS:PUBLIC
TRANSP:TRANSPARENT
END:VEVENT
BEGIN:VALARM
TRIGGER:-PT1440M
ACTION:DISPLAY
DESCRIPTION:Event Reminder - Workshop: Fencing Basics
END:VALARM
END:VCALENDAR