BEGIN:VCALENDAR
VERSION:2.0
PRODID:SFPL Web Calendar
BEGIN:VEVENT
UID:129301@sfpl.org
DTSTAMP:20251119T020000Z
DTSTART:20251119T020000Z
DTEND:20251119T030000Z
SUMMARY:Author: Nina Schuyler in conversation with Frances Dinkelspiel
DESCRIPTION:<p>Experience the evocative world of <strong>Nina Schuyler’s </strong><a href="https://sfpl.bibliocommons.com/v2/record/S93C5809203"><i><strong>Afterword</strong></i></a> in conversation with writer and journalist Frances Dinkelspiel. Together they will explore the novel’s layered themes, rich characters and the delicate interplay of memory and storytelling that define Schuyler’s work. The discussion will be followed by audience Q&A and a book signing. &nbsp; &nbsp;</p><p><strong>Nina Schuyler </strong>is the author of <a href="https://sfpl.bibliocommons.com/v2/record/S93C6441855"><i>In This Ravishing World</i> </a>(2024), winner of the 2025 PEN Oakland–Josephine Miles Literary Award and finalist for the Northern California Book Award. The collection also received the W.S. Porter Prize and the Prism Prize for Climate Literature. Her novel <i>Afterword</i> won the Foreword INDIES Book of the Year Award for Science Fiction and Literary, while <a href="https://sfpl.bibliocommons.com/v2/record/S93C2650010"><i>The Translator</i></a> was shortlisted for the William Saroyan International Writing Prize and won the Next Generation Indie Book Award for General Fiction. <a href="https://sfpl.bibliocommons.com/v2/record/S93C1894609"><i>The Painting</i></a> was a finalist for the Northern California Book Award. The second editions of her bestselling craft books, <a href="https://sfpl.bibliocommons.com/v2/record/S93C3874624"><i>How to Write Stunning Sentences</i></a> and <i>Stunning Sentences: A Creative Writing Journal</i>, will be released in January 2026. Her stories have been nominated for the Pushcart Prize and recognized with <i>Best Microfiction 2025</i> and <i>Best Small Fictions 2025</i>. For 17 years, she taught in the University of San Francisco’s MFA program and now teaches creative writing for Stanford Continuing Studies.</p><p><strong>Frances Dinkelspiel </strong>is an award-winning journalist and author who co-founded <a href="https://citysidejournalism.org/">Cityside</a>, the nonprofit news organization behind Berkeleyside, Oaklandside, and Richmondside. Her work has appeared in the New York Times, Wall Street Journal, Los Angeles Times, San Francisco Chronicle, Daily Beast, and People. She’s the author of <i>T</i><a href="https://sfpl.bibliocommons.com/v2/record/S93C2173825"><i>owers of Gold: How One Jewish Immigrant Named Isaias Hellman Created California</i></a>, which was a San Francisco Chronicle bestseller, and <a href="https://sfpl.bibliocommons.com/v2/record/S93C3034706"><i>Tangled Vines: Greed, Murder, Obsession, and an Arsonist in the Vineyards of California</i></a>, a New York Times bestseller.</p><p><strong>Connect</strong></p><p><a href="https://ninaschuyler.com/">Nina Schuyler — Website</a></p><p><a href="https://url.avanan.click/v2/r01/___http://FrancesDinkelspiel.com___.YXAzOnNmZHQyOmE6bzpiMzkxMDRjM2E3M2U3OTljOTYwMmI2OTM1YjhiOTI2MDo3OjY0YWU6MWU2OTAwMjI1MTc4MmUwMmE5NTAxOTZkZDFiM2M0NzQ0MTZhNGJlOTYzNzc5Y2M0YmMyYmM3ZjRjZjk0MGRlYzpoOlQ6Tg">Frances Dinkelspiel — Website</a>&nbsp;</p>
LOCATION:Main Library - Koret Auditorium
CLASS:PUBLIC
TRANSP:TRANSPARENT
END:VEVENT
BEGIN:VALARM
TRIGGER:-PT1440M
ACTION:DISPLAY
DESCRIPTION:Event Reminder - Author: Nina Schuyler in conversation with Frances Dinkelspiel
END:VALARM
END:VCALENDAR