BEGIN:VCALENDAR
VERSION:2.0
PRODID:SFPL Web Calendar
BEGIN:VEVENT
UID:129310@sfpl.org
DTSTAMP:20251005T210000Z
DTSTART:20251005T210000Z
DTEND:20251005T220000Z
SUMMARY:Social: Filipino Snack Trials
DESCRIPTION:<p>Celebrate Filipino American History at the Library, with snacks. Taste different snacks&nbsp;and pick your favorite.&nbsp;</p><p><br>&nbsp;</p>
LOCATION:Portola - Portola Meeting Room
CLASS:PUBLIC
TRANSP:TRANSPARENT
END:VEVENT
BEGIN:VALARM
TRIGGER:-PT1440M
ACTION:DISPLAY
DESCRIPTION:Event Reminder - Social: Filipino Snack Trials
END:VALARM
END:VCALENDAR