BEGIN:VCALENDAR
VERSION:2.0
PRODID:SFPL Web Calendar
BEGIN:VEVENT
UID:129897@sfpl.org
DTSTAMP:20260427T220000Z
DTSTART:20260427T220000Z
DTEND:20260427T234500Z
SUMMARY:Film: Flamingo Road
DESCRIPTION:<p>A woman passing through a small Texas town is caught up in a power struggle between two competing factions and decides to fight back. Directed by Michael Curtiz, <a href="https://en.wikipedia.org/wiki/Flamingo_Road_(film)"><i>Flamingo Road</i></a> stars Joan Crawford, Zachary Scott and Sydney Greenstreet.&nbsp;</p><p>TV-PG, 94 mins., 1949. Closed captions (CC) in English.&nbsp;</p>
LOCATION:Golden Gate Valley - Golden Gate Valley Meeting Room
CLASS:PUBLIC
TRANSP:TRANSPARENT
END:VEVENT
BEGIN:VALARM
TRIGGER:-PT1440M
ACTION:DISPLAY
DESCRIPTION:Event Reminder - Film: Flamingo Road
END:VALARM
END:VCALENDAR