BEGIN:VCALENDAR
VERSION:2.0
PRODID:SFPL Web Calendar
BEGIN:VEVENT
UID:130060@sfpl.org
DTSTAMP:20250924T210000Z
DTSTART:20250924T210000Z
DTEND:20250925T010000Z
SUMMARY:Services: Free Internet Enrollment
DESCRIPTION:<p>At this event, Tech Exchange will give away 100 free home internet kits to eligible attendees, who will also receive 6 months of free internet access. Additionally, attendees will have access to one-on-one digital support and information about Tech Exchange’s services, including affordable devices and digital literacy programs.</p><p>Space limited. Registration required: 415-355-2848 (starting September 10).</p><p>&nbsp;</p>
LOCATION:Visitacion Valley - Visitacion Valley Meeting Room
CLASS:PUBLIC
TRANSP:TRANSPARENT
END:VEVENT
BEGIN:VALARM
TRIGGER:-PT1440M
ACTION:DISPLAY
DESCRIPTION:Event Reminder - Services: Free Internet Enrollment
END:VALARM
END:VCALENDAR