BEGIN:VCALENDAR
VERSION:2.0
PRODID:SFPL Web Calendar
BEGIN:VEVENT
UID:130516@sfpl.org
DTSTAMP:20260516T180000Z
DTSTART:20260516T180000Z
DTEND:20260516T190000Z
SUMMARY:Presentation: Bee Biology
DESCRIPTION:<p>Learn about the importance of honeybee pollination, life in the hive, equipment needed for a hive and beekeeper's tools. Watch honeybees in action through an observation hive and try honey.</p><p>The San Francisco Beekeepers Association is the premier organization for beekeepers in San Francisco. They work to promote the welfare of honeybees and other pollinators.</p><p>Connect:<a href="https://www.sfbee.org/"> San Francisco Beekeepers Association — Website</a></p>
LOCATION:Excelsior - Excelsior Children's Area
CLASS:PUBLIC
TRANSP:TRANSPARENT
END:VEVENT
BEGIN:VALARM
TRIGGER:-PT1440M
ACTION:DISPLAY
DESCRIPTION:Event Reminder - Presentation: Bee Biology
END:VALARM
END:VCALENDAR