BEGIN:VCALENDAR
VERSION:2.0
PRODID:SFPL Web Calendar
BEGIN:VEVENT
UID:130553@sfpl.org
DTSTAMP:20260418T210000Z
DTSTART:20260418T210000Z
DTEND:20260418T223000Z
SUMMARY:Performance: Julius Caesar
DESCRIPTION:<p>The SF Shakespeare Festival brings <i>Julius Caesar </i>to the library! This exploration of political intrigue, betrayal, and the impact of leadership is timeless. Fascinating and complex characters create a chain reaction that quickly spirals out of control. Shakespeare’s deft examination of how power can affect people, and the lengths they are willing to go to obtain it, provides rich material for examination and discussion.</p><p>This production, a one-hour version thoughtfully cut from Shakespeare's <a href="https://sfpl.bibliocommons.com/v2/search?query=julius%20caesar%20shakespeare&searchType=keyword&f_FORMAT=EBOOK">original texts</a>, features walk-on roles for volunteers to join in the fun and concludes with a short Q&A session with the cast. Accessible for Shakespeare novices and highly satisfying for long-time fans, these abridged versions are aimed at a wide age range, from older elementary students on up.&nbsp;</p><hr><h4>The <a href="https://sfshakes.org/">San Francisco Shakespeare Festival</a> makes the words and themes of Shakespeare accessible to everyone, regardless of age, ethnicity, financial status, or education level.</h4>
LOCATION:Main Library - Koret Auditorium
CLASS:PUBLIC
TRANSP:TRANSPARENT
END:VEVENT
BEGIN:VALARM
TRIGGER:-PT1440M
ACTION:DISPLAY
DESCRIPTION:Event Reminder - Performance: Julius Caesar
END:VALARM
END:VCALENDAR