BEGIN:VCALENDAR
VERSION:2.0
PRODID:SFPL Web Calendar
BEGIN:VEVENT
UID:130572@sfpl.org
DTSTAMP:20260405T200000Z
DTSTART:20260405T200000Z
DTEND:20260406T003000Z
SUMMARY:Film: Between Two Worlds
DESCRIPTION:<p><i>Between Two Worlds: The Documentary</i> is a visual sequel to Megan Reyes' award-nominated podcast of the same name. This short film is about discovering heritage as Megan visits her homeland for the first time, the growth of soccer in the Philippines, and the impact of the Philippine women's national team.&nbsp;</p><p>Please stay for the post-screening&nbsp;panel discussion and Q&A.&nbsp;</p><p>Directed by Megan Reyes.</p><p>NR, 85 min., 2025. Closed captions (CC) in English.&nbsp;</p><p><strong>Megan Reyes</strong> is a sports marketing professional turned award-winning host and multi-hyphenate creative passionate about growing soccer through stories of identity, culture, and belonging. She is currently the in-stadium host for San Diego Wave FC (NWSL) and partners with the world’s top brands, including Nike, Google, adidas, Coca-Cola and Capital One.&nbsp;</p><p>In 2023 Megan was a recipient of the <i>Hashtag Sports Creators of Color </i>award for her impactful work amplifying diverse audiences in sport.</p><p>A first-generation Filipino-American, Megan has an inherent curiosity for exploring identity. In 2023, she wrote, co-produced, and hosted <a href="https://between-two-worlds.simplecast.com/"><i>Between Two Worlds</i></a>, a narrative podcast examining the Filipino-American experience in parallel with the Philippine women’s national team’s journey to the country’s first-ever FIFA World Cup. The project gained earned media from BBC, CNN, and NBC and was a Best Storytelling finalist for the 2023 North American Soccer Business and Media Awards. She directed and executive produced a visual spin-off of the podcast, <i>Between Two Worlds: The Documentary</i>. The short documentary film is about discovering heritage, the growth of soccer in the Philippines, and the impact of the Philippine women's national team.</p>
LOCATION:Main Library - Koret Auditorium
CLASS:PUBLIC
TRANSP:TRANSPARENT
END:VEVENT
BEGIN:VALARM
TRIGGER:-PT1440M
ACTION:DISPLAY
DESCRIPTION:Event Reminder - Film: Between Two Worlds
END:VALARM
END:VCALENDAR