BEGIN:VCALENDAR
VERSION:2.0
PRODID:SFPL Web Calendar
BEGIN:VEVENT
UID:130608@sfpl.org
DTSTAMP:20250914T210000Z
DTSTART:20250914T210000Z
DTEND:20250915T000000Z
SUMMARY:Author: Jill Damatac in Conversation
DESCRIPTION:<p><strong>Please note</strong>: Jose Antonio Vargas is unable to make the program. Jill Damatac's conversation partner is To Be Determined.</p><hr><p>Author Jill Damatac will discuss her new book, <a href="https://sfpl.bibliocommons.com/v2/search?query=Dirty%20Kitchen&searchType=smart"><i>Dirty Kitchen</i></a>, in which she dissects the complex layers of migration and perception through food, colonial history, and her own stories of being undocumented in America.</p><p>The discussion will be followed by an audience Q&A, wrapping up at 4:30 p.m., and then a meet-and-greet.</p><p><strong>Jill Damatac</strong> is a writer and filmmaker born in the Philippines, raised in the US, and now a UK citizen, she lives in the SF Bay Area. Her film and photography work has been featured on the BBC, Time, and film festivals worldwide; her short documentary film Blood and Ink (Duo at Tinta), about the indigenous Filipino tattooist Apo Whang Od, was an official selection at the Academy Award–qualifying DOC NYC, winning best documentary at Ireland’s Kerry Film Festival. Jill holds an MSt in Creative Writing from Cambridge University and an MA in Documentary Film from the University of the Arts London.</p><p><strong>Connect:</strong></p><p><a href="https://www.jilldamatac.com/">Jill Damatac - Website</a></p>
LOCATION:Main Library - Koret Auditorium
CLASS:PUBLIC
TRANSP:TRANSPARENT
END:VEVENT
BEGIN:VALARM
TRIGGER:-PT1440M
ACTION:DISPLAY
DESCRIPTION:Event Reminder - Author: Jill Damatac in Conversation
END:VALARM
END:VCALENDAR