BEGIN:VCALENDAR
VERSION:2.0
PRODID:SFPL Web Calendar
BEGIN:VEVENT
UID:131616@sfpl.org
DTSTAMP:20260422T220000Z
DTSTART:20260422T220000Z
DTEND:20260422T230000Z
SUMMARY:Activity: LittleBits
DESCRIPTION:<p>Learn to code without a computer screen with tiny programmable pieces that snap together. For ages 9 and older. Space limited. Seats available first come, first served.</p>
LOCATION:Potrero - Potrero Meeting Room
CLASS:PUBLIC
TRANSP:TRANSPARENT
END:VEVENT
BEGIN:VALARM
TRIGGER:-PT1440M
ACTION:DISPLAY
DESCRIPTION:Event Reminder - Activity: LittleBits
END:VALARM
END:VCALENDAR