BEGIN:VCALENDAR
VERSION:2.0
PRODID:SFPL Web Calendar
BEGIN:VEVENT
UID:131623@sfpl.org
DTSTAMP:20260506T010000Z
DTSTART:20260506T010000Z
DTEND:20260506T023000Z
SUMMARY:Presentation: Opera in The Latin World
DESCRIPTION:<p>Cole Thomason-Redus from the San Francisco Opera’s Department of Engagement and Connectivity will celebrate the voices of Latinx and Latin American superstars on the opera stage during his lecture. Explore the rich history and tradition of Opera in Spanish-speaking communities all over the world.</p>
LOCATION:Potrero - Potrero Meeting Room
CLASS:PUBLIC
TRANSP:TRANSPARENT
END:VEVENT
BEGIN:VALARM
TRIGGER:-PT1440M
ACTION:DISPLAY
DESCRIPTION:Event Reminder - Presentation: Opera in The Latin World
END:VALARM
END:VCALENDAR