BEGIN:VCALENDAR
VERSION:2.0
PRODID:SFPL Web Calendar
BEGIN:VEVENT
UID:132720@sfpl.org
DTSTAMP:20260506T210000Z
DTSTART:20260506T210000Z
DTEND:20260506T223000Z
SUMMARY:Activity: LEGO WeDo 2.0
DESCRIPTION:<p>Learn coding and programming to control the actions of your smart robot with lights, sound, sensors and wheels. For ages 8 and older.&nbsp;</p>
LOCATION:Excelsior - Excelsior Meeting Room
CLASS:PUBLIC
TRANSP:TRANSPARENT
END:VEVENT
BEGIN:VALARM
TRIGGER:-PT1440M
ACTION:DISPLAY
DESCRIPTION:Event Reminder - Activity: LEGO WeDo 2.0
END:VALARM
END:VCALENDAR