BEGIN:VCALENDAR
VERSION:2.0
PRODID:SFPL Web Calendar
BEGIN:VEVENT
UID:132737@sfpl.org
DTSTAMP:20250920T180000Z
DTSTART:20250920T180000Z
DTEND:20250920T200000Z
SUMMARY:CANCELED: Services: Bike Fix-It Clinic
DESCRIPTION:<p>Thank you for your interest in this program. The bike fix-it clinic is canceled.&nbsp;</p><p>The clothing fix-it will still be held in the Main Library Lower Level Latino/Hispanic rooms.</p>
LOCATION:Main Library - Fulton Plaza
CLASS:PUBLIC
TRANSP:TRANSPARENT
END:VEVENT
BEGIN:VALARM
TRIGGER:-PT1440M
ACTION:DISPLAY
DESCRIPTION:Event Reminder - CANCELED: Services: Bike Fix-It Clinic
END:VALARM
END:VCALENDAR