BEGIN:VCALENDAR
VERSION:2.0
PRODID:SFPL Web Calendar
BEGIN:VEVENT
UID:133109@sfpl.org
DTSTAMP:20260530T180000Z
DTSTART:20260530T180000Z
DTEND:20260530T200000Z
SUMMARY:Activity: Drawing From Film: La Llorona (2019)
DESCRIPTION:<p>We'll be pausing Jayro Bustamante’s political folk horror film, <i>La Llorona</i>, to draw striking frames.</p><p>Basic materials (pencils, paper, erasers) will be provided. You may bring your own materials, but please no fume-creating paint or paint pens. Watercolor, ink and gouache are fine.</p><p>This is a self-led event; there will be no instruction or feedback. However, there will be an opportunity at the end of the session to look at others' drawings and show your own.&nbsp;</p><p>NR, 96 mins., 2019. Closed Captions and subtitles in English. <strong>Due to pauses for drawing, the full film will not be shown.</strong></p>
LOCATION:Main Library - Latino/Hispanic Meeting Room A
CLASS:PUBLIC
TRANSP:TRANSPARENT
END:VEVENT
BEGIN:VALARM
TRIGGER:-PT1440M
ACTION:DISPLAY
DESCRIPTION:Event Reminder - Activity: Drawing From Film: La Llorona (2019)
END:VALARM
END:VCALENDAR