BEGIN:VCALENDAR
VERSION:2.0
PRODID:SFPL Web Calendar
BEGIN:VEVENT
UID:133154@sfpl.org
DTSTAMP:20260307T220000Z
DTSTART:20260307T220000Z
DTEND:20260307T231500Z
SUMMARY:Activity: Don Quixote - Production Talk & Chair Dance with San Francisco Ballet
DESCRIPTION:<p>This lively program includes a 30-minute talk on San Francisco Ballet’s upcoming production of <i>Don Quixote </i>followed by a chair dance class with live piano accompaniment.&nbsp;</p><p>Suitable for all ages and abilities</p><p>This event offers a perfect introduction before seeing <a href="https://www.sfballet.org/backstage/whos-who-in-don-quixote/"><i>Don Quixote</i></a> at the War Memorial Opera House, running March 20–29, 2026.</p><p>Connect: <a href="https://url.avanan.click/v2/r01/___https://www.sfballet.org/___.YXAzOnNmZHQyOmE6bzo1NDg1ZjFhNGJjYWNmYzY2YWY0OTc0ZWRiNjhiMmRkMDo3OmY4ZWY6MzJmNDQ5Yjc5NWZjYjRiNTg4ZDEzNGYxNWJhYmMyMjYxMzU0OGJiZTBlNDZlODZjZTljZmVmNWRjYmM3ODEyZDpoOlQ6Tg">San Francisco Ballet - Website</a>&nbsp;| <a href="https://url.avanan.click/v2/r01/___https://www.instagram.com/sfballet/___.YXAzOnNmZHQyOmE6bzo1NDg1ZjFhNGJjYWNmYzY2YWY0OTc0ZWRiNjhiMmRkMDo3OmQ3ZWU6NzJkYjEyN2U4ODVhOWYxNjk1ZGJhYzdjMTlmZDBmYmQ0M2UyNjc2NTlkZjQzNWRkOGNjNjJkZDRmZTkzNjkyYzpoOlQ6Tg">San Francisco Ballet -&nbsp;Instagram</a>&nbsp;| <a href="https://url.avanan.click/v2/r01/___https://www.facebook.com/sfballet___.YXAzOnNmZHQyOmE6bzo1NDg1ZjFhNGJjYWNmYzY2YWY0OTc0ZWRiNjhiMmRkMDo3OmNjMDk6Yjg5N2E2NDYyMjY1ZDg3MTE0N2ZkY2FhMTkwMzEwNzViNzM3MWM3YWM3NzM0YzhiMTMwOWEyMzc2N2M5YmMwZDpoOlQ6Tg">San Francisco Ballet -&nbsp;Facebook</a></p>
LOCATION:Main Library - Latino/Hispanic Meeting Room A
CLASS:PUBLIC
TRANSP:TRANSPARENT
END:VEVENT
BEGIN:VALARM
TRIGGER:-PT1440M
ACTION:DISPLAY
DESCRIPTION:Event Reminder - Activity: Don Quixote - Production Talk & Chair Dance with San Francisco Ballet
END:VALARM
END:VCALENDAR