BEGIN:VCALENDAR
VERSION:2.0
PRODID:SFPL Web Calendar
BEGIN:VEVENT
UID:133187@sfpl.org
DTSTAMP:20251231T220000Z
DTSTART:20251231T220000Z
DTEND:20260101T003000Z
SUMMARY:Film: Harry Potter and the Prisoner of Azkaban
DESCRIPTION:<p>Watch <a href="https://sfpl.bibliocommons.com/v2/record/S93C2197480"><i>Harry Potter and the Prisoner of Azkaban</i></a> during winter recess. Snacks provided. For children and their caregivers.&nbsp;</p><p>In his third year at Hogwarts, Harry is hunted by Sirius Black, a dangerous man who has escaped from the Azkaban prison. Sirius has one mission, to track down and kill Harry. It will be an exciting and dangerous year for Harry and his friends.</p><p>PG,142 min. 2016. Closed Captions (CC) in English.&nbsp;</p>
LOCATION:Excelsior - Excelsior Meeting Room
CLASS:PUBLIC
TRANSP:TRANSPARENT
END:VEVENT
BEGIN:VALARM
TRIGGER:-PT1440M
ACTION:DISPLAY
DESCRIPTION:Event Reminder - Film: Harry Potter and the Prisoner of Azkaban
END:VALARM
END:VCALENDAR