BEGIN:VCALENDAR
VERSION:2.0
PRODID:SFPL Web Calendar
BEGIN:VEVENT
UID:133247@sfpl.org
DTSTAMP:20260103T210000Z
DTSTART:20260103T210000Z
DTEND:20260103T220000Z
SUMMARY:Social: Journal Club
DESCRIPTION:<p>Ring in the new year with a journaling meetup. Come write, doodle, draw or plan your intentions for the new year. Supplies provided, but feel free to bring your own notebook.&nbsp;</p>
LOCATION:Excelsior - Excelsior Meeting Room
CLASS:PUBLIC
TRANSP:TRANSPARENT
END:VEVENT
BEGIN:VALARM
TRIGGER:-PT1440M
ACTION:DISPLAY
DESCRIPTION:Event Reminder - Social: Journal Club
END:VALARM
END:VCALENDAR