BEGIN:VCALENDAR
VERSION:2.0
PRODID:SFPL Web Calendar
BEGIN:VEVENT
UID:133869@sfpl.org
DTSTAMP:20260511T220000Z
DTSTART:20260511T220000Z
DTEND:20260511T234500Z
SUMMARY:Film: The Woman in the Window
DESCRIPTION:<p>An amateur painter finds the perfect subject, but discovers she has a dangerous past. Directed by Fritz Lang, <a href="https://en.wikipedia.org/wiki/The_Woman_in_the_Window_(1944_film)"><i>The Woman in the Window</i></a> stars Edward G. Robinson, Joan Bennett and Dan Duryea.&nbsp;</p><p>NR, 99 mins, 1944. Closed captions (CC) in English.</p>
LOCATION:Golden Gate Valley - Golden Gate Valley Meeting Room
CLASS:PUBLIC
TRANSP:TRANSPARENT
END:VEVENT
BEGIN:VALARM
TRIGGER:-PT1440M
ACTION:DISPLAY
DESCRIPTION:Event Reminder - Film: The Woman in the Window
END:VALARM
END:VCALENDAR