BEGIN:VCALENDAR
VERSION:2.0
PRODID:SFPL Web Calendar
BEGIN:VEVENT
UID:134800@sfpl.org
DTSTAMP:20260403T010000Z
DTSTART:20260403T010000Z
DTEND:20260403T023000Z
SUMMARY:Book Club: World Literature, Seamus Heaney’s Beowulf
DESCRIPTION:<p>We discuss the Old English epic poem <a href="https://sfpl.bibliocommons.com/v2/record/S93C1684400"><i>Beowulf</i></a>, in the award-winning translation by Irish poet <a href="https://sfpl.bibliocommons.com/v2/search?query=Heaney%2C%20Seamus%2C&searchType=author">Seamus Heaney</a>.&nbsp;</p><p><a href="https://sfpl.bibliocommons.com/list/share/377327687_sfpl_johns/572513107_world_literature_book_club">World Literature Book Club reading list</a> &nbsp;</p>
LOCATION:Virtual Library
CLASS:PUBLIC
TRANSP:TRANSPARENT
END:VEVENT
BEGIN:VALARM
TRIGGER:-PT1440M
ACTION:DISPLAY
DESCRIPTION:Event Reminder - Book Club: World Literature, Seamus Heaney’s Beowulf
END:VALARM
END:VCALENDAR