BEGIN:VCALENDAR
VERSION:2.0
PRODID:SFPL Web Calendar
BEGIN:VEVENT
UID:134812@sfpl.org
DTSTAMP:20260425T200000Z
DTSTART:20260425T200000Z
DTEND:20260426T000000Z
SUMMARY:Celebration: Open House
DESCRIPTION:<p>Celebrate community at the annual Visitacion Valley Library Open House – full of fun for all ages. Enjoy light refreshments and book giveaways as well as origami crafts, music, animals and community organizations sharing information.&nbsp;</p><p>1:00 p.m. - 3:00 p.m. : Origami with Angela Wang<br>2:15 p.m. - 2:45 p.m. : Music by La Familia Peña-Govea<br>3:15 p.m. - 4:15 p.m. : Animal presentation by Tree Frog Treks</p>
LOCATION:Visitacion Valley - Visitacion Valley Meeting Room
CLASS:PUBLIC
TRANSP:TRANSPARENT
END:VEVENT
BEGIN:VALARM
TRIGGER:-PT1440M
ACTION:DISPLAY
DESCRIPTION:Event Reminder - Celebration: Open House
END:VALARM
END:VCALENDAR