BEGIN:VCALENDAR
VERSION:2.0
PRODID:SFPL Web Calendar
BEGIN:VEVENT
UID:134912@sfpl.org
DTSTAMP:20251231T213000Z
DTSTART:20251231T213000Z
DTEND:20251231T233000Z
SUMMARY:Film: Spider-Man: Into the Spider-Verse
DESCRIPTION:<p>Miles Morales becomes the masked superhero of his reality and crosses paths with his counterparts from other dimensions to stop a threat to all reality.</p><p><i>Spider-Man: Into the Spider-Verse </i>is available via <a href="https://sfpl.bibliocommons.com/v2/record/S93C3665885">DVD</a> and <a href="https://sfpl.bibliocommons.com/v2/record/S93C3887743">Blu-ray</a> with your library card.</p><p>PG, 117 mins., 2018. Closed captions (CC) in English.</p>
LOCATION:Glen Park - Glen Park Meeting Room
CLASS:PUBLIC
TRANSP:TRANSPARENT
END:VEVENT
BEGIN:VALARM
TRIGGER:-PT1440M
ACTION:DISPLAY
DESCRIPTION:Event Reminder - Film: Spider-Man: Into the Spider-Verse
END:VALARM
END:VCALENDAR