BEGIN:VCALENDAR
VERSION:2.0
PRODID:SFPL Web Calendar
BEGIN:VEVENT
UID:134917@sfpl.org
DTSTAMP:20260328T200000Z
DTSTART:20260328T200000Z
DTEND:20260328T230000Z
SUMMARY:Celebration: Open House
DESCRIPTION:<p>Join us for the Presidio Branch Library Open House featuring:</p><ul><li><p>1 p.m. - an animal visit with Tree Frog Treks</p><p>Connect: <a href="www.treefrogtreks.com">Tree Frog Treks</a></p></li><li><p>2:30 p.m. - a music performance with SF Symphony violinists Victor Romasevich and Florin Parvulescu</p><p>Part of The San Francisco Symphony’s Community Chamber Concert program, which brings small ensembles to community spaces across San Francisco. These free concerts are an opportunity to get to know SF Symphony musicians and see them perform in an intimate setting.</p><p>Learn more about the musicians here: <a href="https://www.sfsymphony.org/About-SFS/SF-Symphony-Musicians">Musicians at the San Francisco Symphony</a></p></li><li>Book giveaways for all ages, button making and light refreshments for the community</li></ul>
LOCATION:Presidio - Presidio Meeting Room
CLASS:PUBLIC
TRANSP:TRANSPARENT
END:VEVENT
BEGIN:VALARM
TRIGGER:-PT1440M
ACTION:DISPLAY
DESCRIPTION:Event Reminder - Celebration: Open House
END:VALARM
END:VCALENDAR