BEGIN:VCALENDAR
VERSION:2.0
PRODID:SFPL Web Calendar
BEGIN:VEVENT
UID:136070@sfpl.org
DTSTAMP:20260425T210000Z
DTSTART:20260425T210000Z
DTEND:20260425T223000Z
SUMMARY:Performance: Thomas Schultz Piano Recital
DESCRIPTION:<p><a href="https://www.thomasschultzpianist.com/">Thomas Schultz</a> performs an hour's worth of music reaching from Franz Schubert and L. M. Gottschalk to 21st Century Hyo-shin Na. The performance will include the following pieces played by Thomas Schultz on the library's classic Steinway Model M piano...</p><ul><li>Sonata in C, D.840 - Franz Schubert</li><li>The Banjo - L. M. Gottschalk/Schultz</li><li>Walking, Walking - Hyo-shin Na</li></ul><p>Thomas Schultz has established an international reputation both as an interpreter of music from the classical tradition - particularly Bach, Beethoven, Schubert and Liszt - and as one of the leading exponents of the music of our time. He has appeared as a soloist at the Other Minds Festival in San Francisco and in chamber music performances with the San Francisco Contemporary Music Players, the Da Camera Society of Houston, Robert Craft's 20th Century Classics Ensemble and the St. Lawrence String Quartet.</p>
LOCATION:Main Library - Koret Lobby
CLASS:PUBLIC
TRANSP:TRANSPARENT
END:VEVENT
BEGIN:VALARM
TRIGGER:-PT1440M
ACTION:DISPLAY
DESCRIPTION:Event Reminder - Performance: Thomas Schultz Piano Recital
END:VALARM
END:VCALENDAR