BEGIN:VCALENDAR
VERSION:2.0
PRODID:SFPL Web Calendar
BEGIN:VEVENT
UID:136275@sfpl.org
DTSTAMP:20260222T000000Z
DTSTART:20260222T000000Z
DTEND:20260222T010000Z
SUMMARY:FULL: Workshop: Pour & Glow Candle Making
DESCRIPTION:<p>Join Linda Zafra of Soul Gifts USA for a hands-on candle-making class that blends creativity and craftsmanship. You’ll uncover the secrets behind perfect candles—from wax and fragrance choices to pour temperatures and curing magic.&nbsp;</p><p>This event is full. For waitlist information call (415) 355-5656 or email parevent@sfpl.org.</p>
LOCATION:Park - Park Meeting Room
CLASS:PUBLIC
TRANSP:TRANSPARENT
END:VEVENT
BEGIN:VALARM
TRIGGER:-PT1440M
ACTION:DISPLAY
DESCRIPTION:Event Reminder - FULL: Workshop: Pour & Glow Candle Making
END:VALARM
END:VCALENDAR