BEGIN:VCALENDAR
VERSION:2.0
PRODID:SFPL Web Calendar
BEGIN:VEVENT
UID:136484@sfpl.org
DTSTAMP:20260104T180000Z
DTSTART:20260104T180000Z
DTEND:20260105T010000Z
SUMMARY:Activity: 4th Annual Bernal Book Bingo: Banned Books Edition
DESCRIPTION:<p>Drop-in and pick up a bingo card. The 4th Annual Bernal Book Bingo features book, audiobook and activity squares. Finish a bingo line and bring it back to the Bernal Heights Branch reference desk by February 28, 2026, for a prize (while supplies last).&nbsp;</p>
LOCATION:Bernal Heights - Bernal Heights General Floor Area
CLASS:PUBLIC
TRANSP:TRANSPARENT
END:VEVENT
BEGIN:VALARM
TRIGGER:-PT1440M
ACTION:DISPLAY
DESCRIPTION:Event Reminder - Activity: 4th Annual Bernal Book Bingo: Banned Books Edition
END:VALARM
END:VCALENDAR