BEGIN:VCALENDAR
VERSION:2.0
PRODID:SFPL Web Calendar
BEGIN:VEVENT
UID:136998@sfpl.org
DTSTAMP:20260417T000000Z
DTSTART:20260417T000000Z
DTEND:20260417T010000Z
SUMMARY:Workshop: Guitar Pedals, Distortion and Fuzz
DESCRIPTION:<p>Play effects pedals on guitar, bass, or keyboard in The Mix's monthly guitar pedal series. Learn about altering sounds using pedals in The Mix's Music Studio. This month we will be&nbsp;exploring distortion and fuzz pedals. In honor of groundbreaking Black guitarist and legend Jimi Hendrix we will try to emulate Hendrix's guitar tone using The Mix's pedals. This program will feature a Super Rodent and an Angry Orange from Keeley Electronics, and a Haunt Fuzz from Old Blood Noise Endeavors.</p><p>&nbsp;For ages 12–18. Space limited. Seats available first come, first served.&nbsp;</p><p><br>&nbsp;</p>
LOCATION:Main Library - Mix: Audio - 2nd Fl
CLASS:PUBLIC
TRANSP:TRANSPARENT
END:VEVENT
BEGIN:VALARM
TRIGGER:-PT1440M
ACTION:DISPLAY
DESCRIPTION:Event Reminder - Workshop: Guitar Pedals, Distortion and Fuzz
END:VALARM
END:VCALENDAR