BEGIN:VCALENDAR
VERSION:2.0
PRODID:SFPL Web Calendar
BEGIN:VEVENT
UID:137002@sfpl.org
DTSTAMP:20260807T000000Z
DTSTART:20260807T000000Z
DTEND:20260807T010000Z
SUMMARY:Workshop: Guitar Pedals, Arrange a Pedal Chain
DESCRIPTION:<p>Arrange and play a pedal chain using effects pedals from The Mix's collection. Join others in experimenting with different combinations of effects pedals in various orders.</p><p>For ages 12–18. Space limited. Seats available first come, first served.&nbsp;</p>
LOCATION:Main Library - Mix: Audio - 2nd Fl
CLASS:PUBLIC
TRANSP:TRANSPARENT
END:VEVENT
BEGIN:VALARM
TRIGGER:-PT1440M
ACTION:DISPLAY
DESCRIPTION:Event Reminder - Workshop: Guitar Pedals, Arrange a Pedal Chain
END:VALARM
END:VCALENDAR