BEGIN:VCALENDAR
VERSION:2.0
PRODID:SFPL Web Calendar
BEGIN:VEVENT
UID:138245@sfpl.org
DTSTAMP:20260103T180000Z
DTSTART:20260103T180000Z
DTEND:20260103T190000Z
SUMMARY:Activity: Mini-Makers
DESCRIPTION:<p>Hands-on activities encouraging curiosity, creativity&nbsp;and the use of fine and gross motor skills. From creating art projects to practicing writing skills to playing with playdough, there's a different project every month. This month will feature dot art markers and kinetic sand play. Repeats on the first Saturday of each month. For children ages 5 and younger.&nbsp;</p>
LOCATION:Mission Bay - Mission Bay Program Room
CLASS:PUBLIC
TRANSP:TRANSPARENT
END:VEVENT
BEGIN:VALARM
TRIGGER:-PT1440M
ACTION:DISPLAY
DESCRIPTION:Event Reminder - Activity: Mini-Makers
END:VALARM
END:VCALENDAR