BEGIN:VCALENDAR
VERSION:2.0
PRODID:SFPL Web Calendar
BEGIN:VEVENT
UID:138269@sfpl.org
DTSTAMP:20260517T210000Z
DTSTART:20260517T210000Z
DTEND:20260517T223000Z
SUMMARY:Presentation: Multiply Your Houseplants:  Success with Your Indoor Garden
DESCRIPTION:<p>Learn about common house plants and how to care for them and propagate them for many years of leafy green joy. Perfect for those who love house plants, are just getting started on their houseplant journey, and are looking for ways to ensure their plants will thrive.</p><p>Presenter:</p><p><strong>Kimberly Swan</strong> spent decades experimenting in her small fog-challenged San Francisco backyard, joining UC Master Gardeners in 2022.&nbsp; Interests include soils, succulents, vegetables and perennials, and garden design, studying for several years with the Landscape Architecture program at UC Berkeley.&nbsp; Kimberly helps friends, family and community members transform their spaces into gardens that work for them — she led an effort to turn an elementary school in the Haight Ashbury from a barren paved lot into a multi-level thriving garden for play and curriculum. Kimberly is specializing in soils and loves sharing her passion with the public.</p><p>&nbsp;</p>
LOCATION:Richmond/Senator Milton Marks - Richmond Meeting Room
CLASS:PUBLIC
TRANSP:TRANSPARENT
END:VEVENT
BEGIN:VALARM
TRIGGER:-PT1440M
ACTION:DISPLAY
DESCRIPTION:Event Reminder - Presentation: Multiply Your Houseplants:  Success with Your Indoor Garden
END:VALARM
END:VCALENDAR