BEGIN:VCALENDAR
VERSION:2.0
PRODID:SFPL Web Calendar
BEGIN:VEVENT
UID:138704@sfpl.org
DTSTAMP:20260423T010000Z
DTSTART:20260423T010000Z
DTEND:20260423T020000Z
SUMMARY:Performance: Golden — Reprise: Poetry & Photography
DESCRIPTION:<p>Golden presents <i>Reprise</i>, their second collection of poetry and photography, in a reading/performance and conversation. Through sonically playful poems and color-saturated portraits, <i>Reprise</i> traces a personal search for safety, home and self-liberation amid national uprisings, anti-trans violence, grief and survival in the United States. Join us for conversation after the performance moderated by Sara Borjas.</p><p>Golden (they/them) is a poet, photographer, installation artist and educator raised in Hampton, VA (Kikotan land). They are the author of <a href="https://www.gameoverbooks.com/store/p/a-dead-name-that-learned-how-to-live"><i>A Dead Name That Learned How to Live</i></a><i> </i>(Game Over Books), a Lambda Literary Award Finalist for Transgender Poetry (2023), and <a href="https://www.haymarketbooks.org/books/2492-reprise"><i>Reprise</i></a><i> </i>(Haymarket Books). Golden’s award-winning photographic series <i>On Learning How to Live, </i>featured in <i>Reprise</i>, was long-listed for the Aperture Portfolio Prize (2021) and selected as a finalist for the Arnold Newman Prize (2021).&nbsp;</p><p>Their work can be found in <i>The Boston Globe</i>, <i>Best of the Net Anthology</i>, <i>Button Poetry</i>, <i>The Nation</i>, <i>Poetry Magazine, Vogue</i>, <i>The Washington Post, The Yale Review</i>, and elsewhere. Golden holds a BFA in Photography & Imaging from New York University and is currently a Nancy Craig Blackburn ’71 Fellow at Randolph College.</p><p>Sara Borjas is a Xicanx pocha, a Fresno poet and a poetry editor at Noemi Press. Her debut collection of poetry, <a href="https://sfpl.bibliocommons.com/v2/record/S93C4528617"><i>Heart Like a Window, Mouth Like a Cliff</i></a><i> </i>was published by Noemi Press in 2019 and won a 2020 American Book Award. Sara was named one of Poets & Writers 2019 Debut Poets and has received fellowships from MacDowell, CantoMundo, The Poetry Foundation, Community of Writers and others. Her work can be found in <i>AGNI:</i> <i>To Never Have Risked Our Lives: A</i> <i>Portfolio of Central American and Mexican Diaspora Writing, The Rumpus, Hayden’s Ferry, The Offing, the Los Angeles Times, Beloit, TRIBES </i>and<i> Manoa</i>, amongst others. She teaches innovative undergraduates at CSU East Bay.</p><p>Connect:&nbsp;</p><p><a href="https://www.goldengoldengolden.com/home">Golden - Website</a> | <a href="https://www.instagram.com/goldenthem_/?hl=en">Golden - Instagram</a> | <a href="https://www.macdowell.org/artists/golden-golden">Golden at the MacDowell Fellowship</a></p><p><a href="https://www.saraborjas.com/">Sara Borjas - Website</a> | <a href="https://www.instagram.com/saraborhaz/">Sara Borjas - Instagram</a>&nbsp;</p>
LOCATION:Main Library - Steve Silver Music Center - 4th Fl
CLASS:PUBLIC
TRANSP:TRANSPARENT
END:VEVENT
BEGIN:VALARM
TRIGGER:-PT1440M
ACTION:DISPLAY
DESCRIPTION:Event Reminder - Performance: Golden — Reprise: Poetry & Photography
END:VALARM
END:VCALENDAR