BEGIN:VCALENDAR
VERSION:2.0
PRODID:SFPL Web Calendar
BEGIN:VEVENT
UID:138963@sfpl.org
DTSTAMP:20260103T183000Z
DTSTART:20260103T183000Z
DTEND:20260103T193000Z
SUMMARY:Workshop: New Years Resolutions
DESCRIPTION:<p>Create and decorate a picture frame using popsicle sticks, felt and glue. Place your New Years Resolution(s) in the frame to keep you on track for your goal.&nbsp;</p>
LOCATION:Parkside - Parkside Children's Area
CLASS:PUBLIC
TRANSP:TRANSPARENT
END:VEVENT
BEGIN:VALARM
TRIGGER:-PT1440M
ACTION:DISPLAY
DESCRIPTION:Event Reminder - Workshop: New Years Resolutions
END:VALARM
END:VCALENDAR