BEGIN:VCALENDAR
VERSION:2.0
PRODID:SFPL Web Calendar
BEGIN:VEVENT
UID:139098@sfpl.org
DTSTAMP:20260128T020000Z
DTSTART:20260128T020000Z
DTEND:20260128T033000Z
SUMMARY:Activity: Gender Liberators Book Viewing Party + Button Making
DESCRIPTION:<p>Enjoy a special viewing of <a href="https://sfpl.bibliocommons.com/v2/record/S93C7226911"><i>Gender Liberators</i></a><i>, </i>a new book recently added to the Hormel Center’s collection of more than 11,000 books<i>. </i>An archive in a book, <i>Gender Liberators&nbsp;</i>is an anthology of writing, poetry, correspondence, photos, paintings, flyers, and other ephemera by trans*, two-spirit, nonbinary, and trans-adjacent authors and creators from 20th century turtle island/North America.&nbsp;</p><p>And while you're there, use the Hormel Center’s button machine to make buttons inspired by the book with designs featuring transgender and gender-nonconfirming legends, icons and history-makers. &nbsp;Materials provided.&nbsp;</p>
LOCATION:Main Library - James C. Hormel LGBTQIA Center - 3rd Fl
CLASS:PUBLIC
TRANSP:TRANSPARENT
END:VEVENT
BEGIN:VALARM
TRIGGER:-PT1440M
ACTION:DISPLAY
DESCRIPTION:Event Reminder - Activity: Gender Liberators Book Viewing Party + Button Making
END:VALARM
END:VCALENDAR