BEGIN:VCALENDAR
VERSION:2.0
PRODID:SFPL Web Calendar
BEGIN:VEVENT
UID:144765@sfpl.org
DTSTAMP:20260517T210000Z
DTSTART:20260517T210000Z
DTEND:20260517T220000Z
SUMMARY:Presentation: A Career in Respiratory Therapy
DESCRIPTION:<p>Discover the healthcare profession of respiratory therapy and the vital role respiratory therapists play in patient care—from delivering critical support and managing life-support equipment to promoting healthy breathing. Learn the essential skills, education, and certifications needed, explore diverse career paths, and see how technology and teamwork drive this dynamic and evolving field. Gain clear, practical insights into what it takes to succeed and grow in respiratory care.&nbsp;&nbsp;</p><p>Anrey Bartoszynski, M.Ed., BSRT, RRT-ACCS, RCP, is the Respiratory Care Program Director and Professor at Skyline College and an Item Writer Contributor for the National Board for Respiratory Care (NBRC). She discovered respiratory therapy in 2002 while originally pursuing veterinary studies and has since built a 17-year career working in ICUs, emergency departments, rehab, and major hospitals in both Virginia and California. Now she focuses her passion on education and elevating the respiratory care field.&nbsp;&nbsp;</p><p>This program is part of the Career Insights series.</p>
LOCATION:Virtual Library
CLASS:PUBLIC
TRANSP:TRANSPARENT
END:VEVENT
BEGIN:VALARM
TRIGGER:-PT1440M
ACTION:DISPLAY
DESCRIPTION:Event Reminder - Presentation: A Career in Respiratory Therapy
END:VALARM
END:VCALENDAR