BEGIN:VCALENDAR
VERSION:2.0
PRODID:SFPL Web Calendar
BEGIN:VEVENT
UID:144846@sfpl.org
DTSTAMP:20260228T220000Z
DTSTART:20260228T220000Z
DTEND:20260228T233000Z
SUMMARY:Presentation: Contemporary Black Voices in American Opera
DESCRIPTION:<p>San Francisco Opera’s Department of Engagement + Connectivity, in partnership with the San Francisco Public Library, invite you to join Cole Thomason-Redus for a continuation of his popular survey of <i>Black Voices in American Opera</i>. This brand-new 90-minute presentation will focus on the careers and recordings of both seasoned and emerging African American artists on today’s world stage of opera. In addition to celebrating these proud voices, we will discuss the institutional and social barriers that have often existed within the art form, and the corrective and equity-based efforts being taken today as San Francisco Opera paves the way for a new century of opera in America. Admission is free of cost and open to all.</p>
LOCATION:Ocean View - Ocean View Meeting Room
CLASS:PUBLIC
TRANSP:TRANSPARENT
END:VEVENT
BEGIN:VALARM
TRIGGER:-PT1440M
ACTION:DISPLAY
DESCRIPTION:Event Reminder - Presentation: Contemporary Black Voices in American Opera
END:VALARM
END:VCALENDAR