BEGIN:VCALENDAR
VERSION:2.0
PRODID:SFPL Web Calendar
BEGIN:VEVENT
UID:144885@sfpl.org
DTSTAMP:20260103T220000Z
DTSTART:20260103T220000Z
DTEND:20260104T000000Z
SUMMARY:FULL: Workshop: Felt Koala
DESCRIPTION:<p><strong>The event and waitlist are full.&nbsp;</strong></p><p>Learn to make a stuffed felt koala with running stitches and French knots.&nbsp;</p><p>Space limited. Reservations required: (415) 355-5615.</p>
LOCATION:Ocean View - Ocean View Meeting Room
CLASS:PUBLIC
TRANSP:TRANSPARENT
END:VEVENT
BEGIN:VALARM
TRIGGER:-PT1440M
ACTION:DISPLAY
DESCRIPTION:Event Reminder - FULL: Workshop: Felt Koala
END:VALARM
END:VCALENDAR