BEGIN:VCALENDAR
VERSION:2.0
PRODID:SFPL Web Calendar
BEGIN:VEVENT
UID:144886@sfpl.org
DTSTAMP:20260321T210000Z
DTSTART:20260321T210000Z
DTEND:20260321T230000Z
SUMMARY:Book Club: Finding My Way: A Memoir, Malala Yousafzai
DESCRIPTION:<p>Come discuss Malala Yousafzai's memoir <a href="https://sfpl.bibliocommons.com/v2/record/S93C7247741"><i>Finding My Way</i></a><i>, </i>a personal reintroduction to an international icon, known for her bravery and advocacy for education, told in her own words.</p>
LOCATION:Ocean View - Ocean View Meeting Room
CLASS:PUBLIC
TRANSP:TRANSPARENT
END:VEVENT
BEGIN:VALARM
TRIGGER:-PT1440M
ACTION:DISPLAY
DESCRIPTION:Event Reminder - Book Club: Finding My Way: A Memoir, Malala Yousafzai
END:VALARM
END:VCALENDAR