BEGIN:VCALENDAR
VERSION:2.0
PRODID:SFPL Web Calendar
BEGIN:VEVENT
UID:144915@sfpl.org
DTSTAMP:20260425T210000Z
DTSTART:20260425T210000Z
DTEND:20260425T230000Z
SUMMARY:Workshop: Crochet Granny Square
DESCRIPTION:<p>Learn to make a simple granny square with chains and double crochet stitches. Printed and digital resources for beginners provided by SFPL will be shared.&nbsp;</p><p>Space limited. Reservations required: (415) 355-5615 (starting April 1).</p>
LOCATION:Ocean View - Ocean View Meeting Room
CLASS:PUBLIC
TRANSP:TRANSPARENT
END:VEVENT
BEGIN:VALARM
TRIGGER:-PT1440M
ACTION:DISPLAY
DESCRIPTION:Event Reminder - Workshop: Crochet Granny Square
END:VALARM
END:VCALENDAR