BEGIN:VCALENDAR
VERSION:2.0
PRODID:SFPL Web Calendar
BEGIN:VEVENT
UID:145143@sfpl.org
DTSTAMP:20260214T190000Z
DTSTART:20260214T190000Z
DTEND:20260214T200000Z
SUMMARY:Performance: West African Music with Keenan D. Webster
DESCRIPTION:<p>Listen to musical instruments related to the Banjo and learn history of the West African Mande Speaking Peoples.</p>
LOCATION:Western Addition - Western Addition Meeting Room
CLASS:PUBLIC
TRANSP:TRANSPARENT
END:VEVENT
BEGIN:VALARM
TRIGGER:-PT1440M
ACTION:DISPLAY
DESCRIPTION:Event Reminder - Performance: West African Music with Keenan D. Webster
END:VALARM
END:VCALENDAR