BEGIN:VCALENDAR
VERSION:2.0
PRODID:SFPL Web Calendar
BEGIN:VEVENT
UID:145369@sfpl.org
DTSTAMP:20260520T013000Z
DTSTART:20260520T013000Z
DTEND:20260520T023000Z
SUMMARY:Presentation: Hidden Meanings in Chinese Art
DESCRIPTION:<p>Bats, gourds, peaches, ribbons and monkeys on horses: these images are frequently (and creatively) depicted in Chinese art — but what do they mean? Just as the Chinese language is an exquisite conduit for rebuses (visual puns) and symbolism, motifs that appear in Chinese art often represent wishes for good fortune. Join us as we decipher hidden messages of prosperity, health and happiness found in traditional Chinese art using selected objects from the Asian Art Museum’s collection. Speaker: Linda Lei.&nbsp;</p><p>This event is a partnership with the Asian Art Museum Docent Program.<br><br>&nbsp;</p>
LOCATION:Virtual Library
CLASS:PUBLIC
TRANSP:TRANSPARENT
END:VEVENT
BEGIN:VALARM
TRIGGER:-PT1440M
ACTION:DISPLAY
DESCRIPTION:Event Reminder - Presentation: Hidden Meanings in Chinese Art
END:VALARM
END:VCALENDAR