BEGIN:VCALENDAR
VERSION:2.0
PRODID:SFPL Web Calendar
BEGIN:VEVENT
UID:145430@sfpl.org
DTSTAMP:20260225T010000Z
DTSTART:20260225T010000Z
DTEND:20260225T021500Z
SUMMARY:Performance: African Music and Arts Village with Baba Shibambo
DESCRIPTION:<p>The African Music and Arts Village is an interactive, high-energy performance that takes participants on a journey back into the heart of ancient Africa through music and story. Baba Shibambo, a master South African percussionist, introduces attendees to traditional drums, marimbas and other indigenous instruments. African folktales from Shibambo's childhood are set to music and shared. Finally, we welcome the participants to the stage where they are given instruction and play easy-to-learn rhythms in a group ensemble setting.</p><p>&nbsp;</p><p>&nbsp;</p>
LOCATION:Park - Park Meeting Room
CLASS:PUBLIC
TRANSP:TRANSPARENT
END:VEVENT
BEGIN:VALARM
TRIGGER:-PT1440M
ACTION:DISPLAY
DESCRIPTION:Event Reminder - Performance: African Music and Arts Village with Baba Shibambo
END:VALARM
END:VCALENDAR