BEGIN:VCALENDAR
VERSION:2.0
PRODID:SFPL Web Calendar
BEGIN:VEVENT
UID:145435@sfpl.org
DTSTAMP:20260416T000000Z
DTSTART:20260416T000000Z
DTEND:20260416T023000Z
SUMMARY:Workshop: Adult Craft Make a Refrigerator Magnet
DESCRIPTION:<p>Easy to make refrigerator magnets are a fun and useful craft.</p><p>Supplies limited. First come, first served.</p>
LOCATION:Mission Bay - Mission Bay Program Room
CLASS:PUBLIC
TRANSP:TRANSPARENT
END:VEVENT
BEGIN:VALARM
TRIGGER:-PT1440M
ACTION:DISPLAY
DESCRIPTION:Event Reminder - Workshop: Adult Craft Make a Refrigerator Magnet
END:VALARM
END:VCALENDAR